BEGIN:VCALENDAR
VERSION:2.0
PRODID:icalendar-ruby
CALSCALE:GREGORIAN
BEGIN:VEVENT
DTSTAMP:20210122T033722Z
UID:67d952f8-6840-42ea-9909-1c4283dab399
DTSTART;VALUE=DATE:20191002
DESCRIPTION:Property ID# 462642\, Time: 12:00PM
SUMMARY:Auction for 
END:VEVENT
END:VCALENDAR
