BEGIN:VCALENDAR
VERSION:2.0
PRODID:icalendar-ruby
CALSCALE:GREGORIAN
BEGIN:VEVENT
DTSTAMP:20210120T113753Z
UID:60c5e322-a119-4257-97f1-988b7edee36e
DTSTART;VALUE=DATE:20200225
DESCRIPTION:Property ID# 470644\, Locatoin: Sothebys International Realty  
 72 Ruapehu Street Taupo ( If Not Sold Prior) \, Time: 12:00PM
SUMMARY:Auction for 
END:VEVENT
END:VCALENDAR
