BEGIN:VCALENDAR
VERSION:2.0
PRODID:icalendar-ruby
CALSCALE:GREGORIAN
BEGIN:VEVENT
DTSTAMP:20260419T125405Z
UID:b0b583ae-dccb-4e49-9cf6-3512247491d1
DTSTART;VALUE=DATE:20220127
DESCRIPTION:Property ID# 525284\, Locatoin: NZSIR Taupo Office\, Time: 4:00
 PM
SUMMARY:Auction for 
END:VEVENT
END:VCALENDAR
