BEGIN:VCALENDAR
VERSION:2.0
PRODID:icalendar-ruby
CALSCALE:GREGORIAN
BEGIN:VEVENT
DTSTAMP:20260420T062716Z
UID:8e3d09d7-2abc-4ec6-9c16-293e50f728ec
DTSTART;VALUE=DATE:20251107
DESCRIPTION:Property ID# 598542\, Locatoin: 44 Roberts Street\, Taupo (will
  not be sold prior)\, Time: 4:30PM
SUMMARY:Auction for 
END:VEVENT
END:VCALENDAR
